BEGIN:VCALENDAR
VERSION:2.0
PRODID:-//East Bay Echo - ECPv6.15.20//NONSGML v1.0//EN
CALSCALE:GREGORIAN
METHOD:PUBLISH
X-WR-CALNAME:East Bay Echo
X-ORIGINAL-URL:https://eastbayecho.com
X-WR-CALDESC:Events for East Bay Echo
REFRESH-INTERVAL;VALUE=DURATION:PT1H
X-Robots-Tag:noindex
X-PUBLISHED-TTL:PT1H
BEGIN:VTIMEZONE
TZID:America/Vancouver
BEGIN:DAYLIGHT
TZOFFSETFROM:-0800
TZOFFSETTO:-0700
TZNAME:PDT
DTSTART:20220313T100000
END:DAYLIGHT
BEGIN:STANDARD
TZOFFSETFROM:-0700
TZOFFSETTO:-0800
TZNAME:PST
DTSTART:20221106T090000
END:STANDARD
BEGIN:DAYLIGHT
TZOFFSETFROM:-0800
TZOFFSETTO:-0700
TZNAME:PDT
DTSTART:20230312T100000
END:DAYLIGHT
BEGIN:STANDARD
TZOFFSETFROM:-0700
TZOFFSETTO:-0800
TZNAME:PST
DTSTART:20231105T090000
END:STANDARD
BEGIN:DAYLIGHT
TZOFFSETFROM:-0800
TZOFFSETTO:-0700
TZNAME:PDT
DTSTART:20240310T100000
END:DAYLIGHT
BEGIN:STANDARD
TZOFFSETFROM:-0700
TZOFFSETTO:-0800
TZNAME:PST
DTSTART:20241103T090000
END:STANDARD
END:VTIMEZONE
BEGIN:VEVENT
DTSTART;TZID=America/Vancouver:20230317T000000
DTEND;TZID=America/Vancouver:20230326T235959
DTSTAMP:20260420T022705
CREATED:20230210T185101Z
LAST-MODIFIED:20230210T185103Z
UID:4266-1679011200-1679875199@eastbayecho.com
SUMMARY:Fremont Restaurant Week
DESCRIPTION:The city of Fremont is partnering with the Fremont Chamber of Commerce to host the city’s inaugural restaurant week. Participating restaurants are set to provide special menu items during the 10-day event.
URL:https://eastbayecho.com/event/fremont-restaurant-week/
CATEGORIES:Community,Fremont
ORGANIZER;CN="City of Fremont":MAILTO:CClerk@fremont.gov
END:VEVENT
BEGIN:VEVENT
DTSTART;TZID=America/Vancouver:20230319T110000
DTEND;TZID=America/Vancouver:20230319T160000
DTSTAMP:20260420T022705
CREATED:20230130T092113Z
LAST-MODIFIED:20230130T092114Z
UID:3623-1679223600-1679241600@eastbayecho.com
SUMMARY:Fremont Toy-Anime-Comic Con
DESCRIPTION:Free admission for children 10 and under. Entrance is $7 if have an ad or flyer and $8 if you don’t. A cosplay costume contest is scheduled for 2:30 p.m.
URL:https://eastbayecho.com/event/fremont-toy-anime-comic-con/
LOCATION:Elks Lodge Fremont\, 38991 Farwell Dr.\, Fremont\, California\, 95436\, United States
CATEGORIES:Community,Fremont
ORGANIZER;CN="Ohana Comic Con":MAILTO:TurlockComicCon@yahoo.com
END:VEVENT
BEGIN:VEVENT
DTSTART;TZID=America/Vancouver:20230319T140000
DTEND;TZID=America/Vancouver:20230319T163000
DTSTAMP:20260420T022705
CREATED:20230317T221915Z
LAST-MODIFIED:20230317T221917Z
UID:5399-1679234400-1679243400@eastbayecho.com
SUMMARY:Seder Apokalypsis
DESCRIPTION:Eric Kupers\, the Wandering Ensemble\, and a diverse group of artists\, scholars\, activists\, and spiritual leaders are collaborating on a multi-cultural performance exploration of the Jewish Passover Seder and celebrations of Freedom from many different ancestral lineages\, in light of the current challenges our world is going through. Seder Apokálypsis is the primary public performance series of year 3 of Wandering in the Wilderness.
URL:https://eastbayecho.com/event/seder-apokalypsis-3/
LOCATION:California State University\, East Bay Theatre\, 25800 Carlos Bee Blvd.\, Hayward\, California\, 94542\, United States
END:VEVENT
BEGIN:VEVENT
DTSTART;TZID=America/Vancouver:20230319T160000
DTEND;TZID=America/Vancouver:20230319T210000
DTSTAMP:20260420T022705
CREATED:20230317T224935Z
LAST-MODIFIED:20230317T224937Z
UID:5416-1679241600-1679259600@eastbayecho.com
SUMMARY:Fremont Youth Climate Summit
DESCRIPTION:“The Youth Climate Summit is an opportunity for the next generation of environmental leaders to come together and share ideas\, learn from experts\, and take action to protect our planet. The event will feature a lineup of inspiring speakers\, interactive workshops\, and engaging activities that will empower young people to make a positive difference in their communities. \n\n\n\nThe event is open to everyone in Fremont and surrounding areas who are passionate about environmental action. Attendees will have the opportunity to connect with like-minded individuals\, learn from experts in the field\, and take part in hands-on activities that will inspire them to take action.The Youth Climate Summit is a free event\, but registration is required. Interested participants can visit summit.beyondterra.org to register and learn more about the event.”
URL:https://eastbayecho.com/event/fremont-youth-climate-summit/
LOCATION:Fremont Downtown Event Center and Plaza\, 3500 Capitol Ave.\, Fremont\, California\, 94538\, United States
END:VEVENT
END:VCALENDAR