BEGIN:VCALENDAR
VERSION:2.0
PRODID:-//East Bay Echo - ECPv6.15.20//NONSGML v1.0//EN
CALSCALE:GREGORIAN
METHOD:PUBLISH
X-ORIGINAL-URL:https://eastbayecho.com
X-WR-CALDESC:Events for East Bay Echo
REFRESH-INTERVAL;VALUE=DURATION:PT1H
X-Robots-Tag:noindex
X-PUBLISHED-TTL:PT1H
BEGIN:VTIMEZONE
TZID:America/Vancouver
BEGIN:DAYLIGHT
TZOFFSETFROM:-0800
TZOFFSETTO:-0700
TZNAME:PDT
DTSTART:20230312T100000
END:DAYLIGHT
BEGIN:STANDARD
TZOFFSETFROM:-0700
TZOFFSETTO:-0800
TZNAME:PST
DTSTART:20231105T090000
END:STANDARD
BEGIN:DAYLIGHT
TZOFFSETFROM:-0800
TZOFFSETTO:-0700
TZNAME:PDT
DTSTART:20240310T100000
END:DAYLIGHT
BEGIN:STANDARD
TZOFFSETFROM:-0700
TZOFFSETTO:-0800
TZNAME:PST
DTSTART:20241103T090000
END:STANDARD
BEGIN:DAYLIGHT
TZOFFSETFROM:-0800
TZOFFSETTO:-0700
TZNAME:PDT
DTSTART:20250309T100000
END:DAYLIGHT
BEGIN:STANDARD
TZOFFSETFROM:-0700
TZOFFSETTO:-0800
TZNAME:PST
DTSTART:20251102T090000
END:STANDARD
END:VTIMEZONE
BEGIN:VEVENT
DTSTART;TZID=America/Vancouver:20240508T183000
DTEND;TZID=America/Vancouver:20240508T220000
DTSTAMP:20260420T020843
CREATED:20231222T064856Z
LAST-MODIFIED:20231222T064859Z
UID:10217-1715193000-1715205600@eastbayecho.com
SUMMARY:Fremont Unified Board of Education meeting
DESCRIPTION:The agenda can be found here at least three days before the meeting.
URL:https://eastbayecho.com/event/fremont-unified-board-of-education-meeting-9/
LOCATION:Fremont Unified School District Education Center Board Room\, 4210 Technology Dr.\, Fremont\, California\, 94538\, United States
ORGANIZER;CN="Fremont Unified School District":MAILTO:fusdweb@fremont.k12.ca.us
END:VEVENT
BEGIN:VEVENT
DTSTART;TZID=America/Vancouver:20240521T183000
DTEND;TZID=America/Vancouver:20240521T210000
DTSTAMP:20260420T020843
CREATED:20231222T060142Z
LAST-MODIFIED:20231222T060145Z
UID:10149-1716316200-1716325200@eastbayecho.com
SUMMARY:New Haven Unified Board of Education meeting
DESCRIPTION:The agenda can be found here at least three days before the meeting.
URL:https://eastbayecho.com/event/new-haven-unified-board-of-education-meeting-9/
LOCATION:New Haven Unified School District\, 34200 Alvarado-Niles Rd.\, Union City\, California\, 94587\, United States
END:VEVENT
BEGIN:VEVENT
DTSTART;TZID=America/Vancouver:20240521T190000
DTEND;TZID=America/Vancouver:20240521T220000
DTSTAMP:20260420T020843
CREATED:20231222T063232Z
LAST-MODIFIED:20231222T063235Z
UID:10194-1716318000-1716328800@eastbayecho.com
SUMMARY:Newark Unified Board of Education meeting
DESCRIPTION:The agenda can be found here at least three days before the meeting.
URL:https://eastbayecho.com/event/newark-unified-board-of-education-meeting-9/
LOCATION:Newark Unified School District Boardroom\, 5715 Musick Ave.\, Newark\, California\, 94560\, United States
END:VEVENT
BEGIN:VEVENT
DTSTART;TZID=America/Vancouver:20240522T170000
DTEND;TZID=America/Vancouver:20240522T223000
DTSTAMP:20260420T020843
CREATED:20231222T061946Z
LAST-MODIFIED:20231222T061949Z
UID:10173-1716397200-1716417000@eastbayecho.com
SUMMARY:Hayward Unified Board of Education meeting
DESCRIPTION:Closed session begins at 5 p.m. and open session begins at 6:30 p.m. The agenda can be found here at least three days before the meeting.
URL:https://eastbayecho.com/event/hayward-unified-board-of-education-meeting-11/
LOCATION:Hayward Unified School District Office\, 24411 Amador St.\, Hayward\, California\, 94544\, United States
END:VEVENT
BEGIN:VEVENT
DTSTART;TZID=America/Vancouver:20240522T183000
DTEND;TZID=America/Vancouver:20240522T220000
DTSTAMP:20260420T020843
CREATED:20231222T064946Z
LAST-MODIFIED:20231222T064949Z
UID:10219-1716402600-1716415200@eastbayecho.com
SUMMARY:Fremont Unified Board of Education meeting
DESCRIPTION:The agenda can be found here at least three days before the meeting.
URL:https://eastbayecho.com/event/fremont-unified-board-of-education-meeting-10/
LOCATION:Fremont Unified School District Education Center Board Room\, 4210 Technology Dr.\, Fremont\, California\, 94538\, United States
ORGANIZER;CN="Fremont Unified School District":MAILTO:fusdweb@fremont.k12.ca.us
END:VEVENT
BEGIN:VEVENT
DTSTART;TZID=America/Vancouver:20240604T183000
DTEND;TZID=America/Vancouver:20240604T210000
DTSTAMP:20260420T020843
CREATED:20231222T060247Z
LAST-MODIFIED:20231222T060250Z
UID:10151-1717525800-1717534800@eastbayecho.com
SUMMARY:New Haven Unified Board of Education meeting
DESCRIPTION:The agenda can be found here at least three days before the meeting.
URL:https://eastbayecho.com/event/new-haven-unified-board-of-education-meeting-10/
LOCATION:New Haven Unified School District\, 34200 Alvarado-Niles Rd.\, Union City\, California\, 94587\, United States
END:VEVENT
BEGIN:VEVENT
DTSTART;TZID=America/Vancouver:20240604T190000
DTEND;TZID=America/Vancouver:20240604T220000
DTSTAMP:20260420T020843
CREATED:20231222T063322Z
LAST-MODIFIED:20231222T063325Z
UID:10196-1717527600-1717538400@eastbayecho.com
SUMMARY:Newark Unified Board of Education meeting
DESCRIPTION:The agenda can be found here at least three days before the meeting.
URL:https://eastbayecho.com/event/newark-unified-board-of-education-meeting-10/
LOCATION:Newark Unified School District Boardroom\, 5715 Musick Ave.\, Newark\, California\, 94560\, United States
END:VEVENT
BEGIN:VEVENT
DTSTART;TZID=America/Vancouver:20240612T170000
DTEND;TZID=America/Vancouver:20240612T223000
DTSTAMP:20260420T020843
CREATED:20231222T062050Z
LAST-MODIFIED:20231222T062052Z
UID:10175-1718211600-1718231400@eastbayecho.com
SUMMARY:Hayward Unified Board of Education meeting
DESCRIPTION:Closed session begins at 5 p.m. and open session begins at 6:30 p.m. The agenda can be found here at least three days before the meeting.
URL:https://eastbayecho.com/event/hayward-unified-board-of-education-meeting-12/
LOCATION:Hayward Unified School District Office\, 24411 Amador St.\, Hayward\, California\, 94544\, United States
END:VEVENT
BEGIN:VEVENT
DTSTART;TZID=America/Vancouver:20240612T183000
DTEND;TZID=America/Vancouver:20240612T220000
DTSTAMP:20260420T020843
CREATED:20231222T065043Z
LAST-MODIFIED:20231222T065045Z
UID:10221-1718217000-1718229600@eastbayecho.com
SUMMARY:Fremont Unified Board of Education meeting
DESCRIPTION:The agenda can be found here at least three days before the meeting.
URL:https://eastbayecho.com/event/fremont-unified-board-of-education-meeting-11/
LOCATION:Fremont Unified School District Education Center Board Room\, 4210 Technology Dr.\, Fremont\, California\, 94538\, United States
ORGANIZER;CN="Fremont Unified School District":MAILTO:fusdweb@fremont.k12.ca.us
END:VEVENT
BEGIN:VEVENT
DTSTART;TZID=America/Vancouver:20240618T183000
DTEND;TZID=America/Vancouver:20240618T210000
DTSTAMP:20260420T020843
CREATED:20231222T060346Z
LAST-MODIFIED:20231222T060349Z
UID:10153-1718735400-1718744400@eastbayecho.com
SUMMARY:New Haven Unified Board of Education meeting
DESCRIPTION:The agenda can be found here at least three days before the meeting.
URL:https://eastbayecho.com/event/new-haven-unified-board-of-education-meeting-11/
LOCATION:New Haven Unified School District\, 34200 Alvarado-Niles Rd.\, Union City\, California\, 94587\, United States
END:VEVENT
BEGIN:VEVENT
DTSTART;TZID=America/Vancouver:20240618T190000
DTEND;TZID=America/Vancouver:20240618T220000
DTSTAMP:20260420T020843
CREATED:20231222T063415Z
LAST-MODIFIED:20231222T063418Z
UID:10198-1718737200-1718748000@eastbayecho.com
SUMMARY:Newark Unified Board of Education meeting
DESCRIPTION:The agenda can be found here at least three days before the meeting.
URL:https://eastbayecho.com/event/newark-unified-board-of-education-meeting-11/
LOCATION:Newark Unified School District Boardroom\, 5715 Musick Ave.\, Newark\, California\, 94560\, United States
END:VEVENT
BEGIN:VEVENT
DTSTART;TZID=America/Vancouver:20240626T170000
DTEND;TZID=America/Vancouver:20240626T223000
DTSTAMP:20260420T020843
CREATED:20231222T062144Z
LAST-MODIFIED:20231222T062148Z
UID:10177-1719421200-1719441000@eastbayecho.com
SUMMARY:Hayward Unified Board of Education meeting
DESCRIPTION:Closed session begins at 5 p.m. and open session begins at 6:30 p.m. The agenda can be found here at least three days before the meeting.
URL:https://eastbayecho.com/event/hayward-unified-board-of-education-meeting-13/
LOCATION:Hayward Unified School District Office\, 24411 Amador St.\, Hayward\, California\, 94544\, United States
END:VEVENT
BEGIN:VEVENT
DTSTART;TZID=America/Vancouver:20240626T183000
DTEND;TZID=America/Vancouver:20240626T220000
DTSTAMP:20260420T020843
CREATED:20231222T065137Z
LAST-MODIFIED:20231222T065140Z
UID:10223-1719426600-1719439200@eastbayecho.com
SUMMARY:Fremont Unified Board of Education meeting
DESCRIPTION:The agenda can be found here at least three days before the meeting.
URL:https://eastbayecho.com/event/fremont-unified-board-of-education-meeting-12/
LOCATION:Fremont Unified School District Education Center Board Room\, 4210 Technology Dr.\, Fremont\, California\, 94538\, United States
ORGANIZER;CN="Fremont Unified School District":MAILTO:fusdweb@fremont.k12.ca.us
END:VEVENT
END:VCALENDAR